BEGIN:VCALENDAR
VERSION:2.0
PRODID:-//Technisches Berufskolleg Fäberstraße - ECPv6.15.13//NONSGML v1.0//EN
CALSCALE:GREGORIAN
METHOD:PUBLISH
X-WR-CALNAME:Technisches Berufskolleg Fäberstraße
X-ORIGINAL-URL:https://www.tbkf.de
X-WR-CALDESC:Veranstaltungen für Technisches Berufskolleg Fäberstraße
REFRESH-INTERVAL;VALUE=DURATION:PT1H
X-Robots-Tag:noindex
X-PUBLISHED-TTL:PT1H
BEGIN:VTIMEZONE
TZID:Europe/Berlin
BEGIN:DAYLIGHT
TZOFFSETFROM:+0100
TZOFFSETTO:+0200
TZNAME:CEST
DTSTART:20210328T010000
END:DAYLIGHT
BEGIN:STANDARD
TZOFFSETFROM:+0200
TZOFFSETTO:+0100
TZNAME:CET
DTSTART:20211031T010000
END:STANDARD
BEGIN:DAYLIGHT
TZOFFSETFROM:+0100
TZOFFSETTO:+0200
TZNAME:CEST
DTSTART:20220327T010000
END:DAYLIGHT
BEGIN:STANDARD
TZOFFSETFROM:+0200
TZOFFSETTO:+0100
TZNAME:CET
DTSTART:20221030T010000
END:STANDARD
BEGIN:DAYLIGHT
TZOFFSETFROM:+0100
TZOFFSETTO:+0200
TZNAME:CEST
DTSTART:20230326T010000
END:DAYLIGHT
BEGIN:STANDARD
TZOFFSETFROM:+0200
TZOFFSETTO:+0100
TZNAME:CET
DTSTART:20231029T010000
END:STANDARD
END:VTIMEZONE
BEGIN:VEVENT
DTSTART;TZID=Europe/Berlin:20220617T130000
DTEND;TZID=Europe/Berlin:20220617T150000
DTSTAMP:20260422T024528
CREATED:20251204T211551Z
LAST-MODIFIED:20260422T001716Z
UID:9213-1655470800-1655478000@www.tbkf.de
SUMMARY:Abschlussfeier AHR und FHR
DESCRIPTION:
URL:https://www.tbkf.de/termin/abschlussfeier-ahr-und-fhr/
END:VEVENT
END:VCALENDAR