BEGIN:VCALENDAR
VERSION:2.0
PRODID:-//Technisches Berufskolleg Fäberstraße - ECPv6.15.13//NONSGML v1.0//EN
CALSCALE:GREGORIAN
METHOD:PUBLISH
X-WR-CALNAME:Technisches Berufskolleg Fäberstraße
X-ORIGINAL-URL:https://www.tbkf.de
X-WR-CALDESC:Veranstaltungen für Technisches Berufskolleg Fäberstraße
REFRESH-INTERVAL;VALUE=DURATION:PT1H
X-Robots-Tag:noindex
X-PUBLISHED-TTL:PT1H
BEGIN:VTIMEZONE
TZID:Europe/Berlin
BEGIN:DAYLIGHT
TZOFFSETFROM:+0100
TZOFFSETTO:+0200
TZNAME:CEST
DTSTART:20210328T010000
END:DAYLIGHT
BEGIN:STANDARD
TZOFFSETFROM:+0200
TZOFFSETTO:+0100
TZNAME:CET
DTSTART:20211031T010000
END:STANDARD
BEGIN:DAYLIGHT
TZOFFSETFROM:+0100
TZOFFSETTO:+0200
TZNAME:CEST
DTSTART:20220327T010000
END:DAYLIGHT
BEGIN:STANDARD
TZOFFSETFROM:+0200
TZOFFSETTO:+0100
TZNAME:CET
DTSTART:20221030T010000
END:STANDARD
BEGIN:DAYLIGHT
TZOFFSETFROM:+0100
TZOFFSETTO:+0200
TZNAME:CEST
DTSTART:20230326T010000
END:DAYLIGHT
BEGIN:STANDARD
TZOFFSETFROM:+0200
TZOFFSETTO:+0100
TZNAME:CET
DTSTART:20231029T010000
END:STANDARD
END:VTIMEZONE
BEGIN:VEVENT
DTSTART;TZID=Europe/Berlin:20220502T080000
DTEND;TZID=Europe/Berlin:20220502T120000
DTSTAMP:20260422T024817
CREATED:20251204T211611Z
LAST-MODIFIED:20260422T004728Z
UID:9415-1651478400-1651492800@www.tbkf.de
SUMMARY:FS-FEX1
DESCRIPTION:
URL:https://www.tbkf.de/termin/fs-fex1/
END:VEVENT
BEGIN:VEVENT
DTSTART;TZID=Europe/Berlin:20220503T080000
DTEND;TZID=Europe/Berlin:20220503T120000
DTSTAMP:20260422T024817
CREATED:20251204T211551Z
LAST-MODIFIED:20260422T004722Z
UID:9211-1651564800-1651579200@www.tbkf.de
SUMMARY:FS-FEX2
DESCRIPTION:
URL:https://www.tbkf.de/termin/fs-fex2/
END:VEVENT
BEGIN:VEVENT
DTSTART;TZID=Europe/Berlin:20220504T080000
DTEND;TZID=Europe/Berlin:20220504T120000
DTSTAMP:20260422T024817
CREATED:20251204T211609Z
LAST-MODIFIED:20260422T004727Z
UID:9391-1651651200-1651665600@www.tbkf.de
SUMMARY:FS-FEX3
DESCRIPTION:
URL:https://www.tbkf.de/termin/fs-fex3/
END:VEVENT
BEGIN:VEVENT
DTSTART;VALUE=DATE:20220526
DTEND;VALUE=DATE:20220527
DTSTAMP:20260422T024817
CREATED:20251204T211603Z
LAST-MODIFIED:20260422T004725Z
UID:9330-1653523200-1653609599@www.tbkf.de
SUMMARY:Christi Himmelfahrt
DESCRIPTION:
URL:https://www.tbkf.de/termin/christi-himmelfahrt-4/
END:VEVENT
BEGIN:VEVENT
DTSTART;VALUE=DATE:20220527
DTEND;VALUE=DATE:20220528
DTSTAMP:20260422T024817
CREATED:20251204T211558Z
LAST-MODIFIED:20260422T004723Z
UID:9282-1653609600-1653695999@www.tbkf.de
SUMMARY:3. Beweglicher Ferientag
DESCRIPTION:
URL:https://www.tbkf.de/termin/3-beweglicher-ferientag/
END:VEVENT
END:VCALENDAR