BEGIN:VCALENDAR
VERSION:2.0
PRODID:-//Technisches Berufskolleg Fäberstraße - ECPv6.15.13//NONSGML v1.0//EN
CALSCALE:GREGORIAN
METHOD:PUBLISH
X-ORIGINAL-URL:https://www.tbkf.de
X-WR-CALDESC:Veranstaltungen für Technisches Berufskolleg Fäberstraße
REFRESH-INTERVAL;VALUE=DURATION:PT1H
X-Robots-Tag:noindex
X-PUBLISHED-TTL:PT1H
BEGIN:VTIMEZONE
TZID:Europe/Berlin
BEGIN:DAYLIGHT
TZOFFSETFROM:+0100
TZOFFSETTO:+0200
TZNAME:CEST
DTSTART:20210328T010000
END:DAYLIGHT
BEGIN:STANDARD
TZOFFSETFROM:+0200
TZOFFSETTO:+0100
TZNAME:CET
DTSTART:20211031T010000
END:STANDARD
BEGIN:DAYLIGHT
TZOFFSETFROM:+0100
TZOFFSETTO:+0200
TZNAME:CEST
DTSTART:20220327T010000
END:DAYLIGHT
BEGIN:STANDARD
TZOFFSETFROM:+0200
TZOFFSETTO:+0100
TZNAME:CET
DTSTART:20221030T010000
END:STANDARD
BEGIN:DAYLIGHT
TZOFFSETFROM:+0100
TZOFFSETTO:+0200
TZNAME:CEST
DTSTART:20230326T010000
END:DAYLIGHT
BEGIN:STANDARD
TZOFFSETFROM:+0200
TZOFFSETTO:+0100
TZNAME:CET
DTSTART:20231029T010000
END:STANDARD
END:VTIMEZONE
BEGIN:VEVENT
DTSTART;VALUE=DATE:20221003
DTEND;VALUE=DATE:20221016
DTSTAMP:20260421T175003
CREATED:20251204T211605Z
LAST-MODIFIED:20260421T154721Z
UID:9356-1664755200-1665878399@www.tbkf.de
SUMMARY:Herbstferien
DESCRIPTION:
URL:https://www.tbkf.de/termin/herbstferien-4/
END:VEVENT
BEGIN:VEVENT
DTSTART;TZID=Europe/Berlin:20221018T170000
DTEND;TZID=Europe/Berlin:20221018T183000
DTSTAMP:20260421T175003
CREATED:20251204T211555Z
LAST-MODIFIED:20260421T154719Z
UID:9255-1666112400-1666117800@www.tbkf.de
SUMMARY:Klassen/Stufenpflegschaft
DESCRIPTION:
URL:https://www.tbkf.de/termin/klassen-stufenpflegschaft/
END:VEVENT
BEGIN:VEVENT
DTSTART;TZID=Europe/Berlin:20221018T190000
DTEND;TZID=Europe/Berlin:20221018T210000
DTSTAMP:20260421T175003
CREATED:20251204T211558Z
LAST-MODIFIED:20260421T154719Z
UID:9281-1666119600-1666126800@www.tbkf.de
SUMMARY:Schulkonferenz
DESCRIPTION:
URL:https://www.tbkf.de/termin/schulkonferenz-5/
END:VEVENT
BEGIN:VEVENT
DTSTART;TZID=Europe/Berlin:20221020T140000
DTEND;TZID=Europe/Berlin:20221020T170000
DTSTAMP:20260421T175003
CREATED:20251204T211557Z
LAST-MODIFIED:20260421T154719Z
UID:9274-1666274400-1666285200@www.tbkf.de
SUMMARY:Ausbilder*innensprechtag
DESCRIPTION:
URL:https://www.tbkf.de/termin/ausbilderinnensprechtag/
END:VEVENT
BEGIN:VEVENT
DTSTART;TZID=Europe/Berlin:20221026T090000
DTEND;TZID=Europe/Berlin:20221026T150000
DTSTAMP:20260421T175003
CREATED:20251204T211556Z
LAST-MODIFIED:20260421T154719Z
UID:9265-1666774800-1666796400@www.tbkf.de
SUMMARY:Azubi-Speeddating
DESCRIPTION:
URL:https://www.tbkf.de/termin/azubi-speeddating/
END:VEVENT
END:VCALENDAR