BEGIN:VCALENDAR
VERSION:2.0
PRODID:-//Technisches Berufskolleg Fäberstraße - ECPv6.15.13//NONSGML v1.0//EN
CALSCALE:GREGORIAN
METHOD:PUBLISH
X-WR-CALNAME:Technisches Berufskolleg Fäberstraße
X-ORIGINAL-URL:https://www.tbkf.de
X-WR-CALDESC:Veranstaltungen für Technisches Berufskolleg Fäberstraße
REFRESH-INTERVAL;VALUE=DURATION:PT1H
X-Robots-Tag:noindex
X-PUBLISHED-TTL:PT1H
BEGIN:VTIMEZONE
TZID:Europe/Berlin
BEGIN:DAYLIGHT
TZOFFSETFROM:+0100
TZOFFSETTO:+0200
TZNAME:CEST
DTSTART:20220327T010000
END:DAYLIGHT
BEGIN:STANDARD
TZOFFSETFROM:+0200
TZOFFSETTO:+0100
TZNAME:CET
DTSTART:20221030T010000
END:STANDARD
BEGIN:DAYLIGHT
TZOFFSETFROM:+0100
TZOFFSETTO:+0200
TZNAME:CEST
DTSTART:20230326T010000
END:DAYLIGHT
BEGIN:STANDARD
TZOFFSETFROM:+0200
TZOFFSETTO:+0100
TZNAME:CET
DTSTART:20231029T010000
END:STANDARD
BEGIN:DAYLIGHT
TZOFFSETFROM:+0100
TZOFFSETTO:+0200
TZNAME:CEST
DTSTART:20240331T010000
END:DAYLIGHT
BEGIN:STANDARD
TZOFFSETFROM:+0200
TZOFFSETTO:+0100
TZNAME:CET
DTSTART:20241027T010000
END:STANDARD
END:VTIMEZONE
BEGIN:VEVENT
DTSTART;VALUE=DATE:20230501
DTEND;VALUE=DATE:20230502
DTSTAMP:20260421T060753
CREATED:20251204T211556Z
LAST-MODIFIED:20260421T034721Z
UID:9260-1682899200-1682985599@www.tbkf.de
SUMMARY:Tag der Arbeit (Feiertag)
DESCRIPTION:
URL:https://www.tbkf.de/termin/tag-der-arbeit-feiertag/
END:VEVENT
BEGIN:VEVENT
DTSTART;VALUE=DATE:20230509
DTEND;VALUE=DATE:20230510
DTSTAMP:20260421T060753
CREATED:20251204T211552Z
LAST-MODIFIED:20260421T034720Z
UID:9215-1683590400-1683676799@www.tbkf.de
SUMMARY:Europatag am FJBK
DESCRIPTION:
URL:https://www.tbkf.de/termin/europatag-am-fjbk/
END:VEVENT
BEGIN:VEVENT
DTSTART;VALUE=DATE:20230518
DTEND;VALUE=DATE:20230519
DTSTAMP:20260421T060753
CREATED:20251204T211551Z
LAST-MODIFIED:20260421T034720Z
UID:9203-1684368000-1684454399@www.tbkf.de
SUMMARY:Christi Himmelfahrt (Feiertag)
DESCRIPTION:
URL:https://www.tbkf.de/termin/christi-himmelfahrt-feiertag/
END:VEVENT
BEGIN:VEVENT
DTSTART;VALUE=DATE:20230519
DTEND;VALUE=DATE:20230520
DTSTAMP:20260421T060753
CREATED:20251204T211604Z
LAST-MODIFIED:20260421T034723Z
UID:9341-1684454400-1684540799@www.tbkf.de
SUMMARY:Beweglicher Ferientag
DESCRIPTION:
URL:https://www.tbkf.de/termin/beweglicher-ferientag-6/
END:VEVENT
BEGIN:VEVENT
DTSTART;VALUE=DATE:20230529
DTEND;VALUE=DATE:20230530
DTSTAMP:20260421T060753
CREATED:20251204T211609Z
LAST-MODIFIED:20260421T034725Z
UID:9396-1685318400-1685404799@www.tbkf.de
SUMMARY:Pfingsten (Feiertag)
DESCRIPTION:
URL:https://www.tbkf.de/termin/pfingsten-feiertag/
END:VEVENT
BEGIN:VEVENT
DTSTART;VALUE=DATE:20230530
DTEND;VALUE=DATE:20230531
DTSTAMP:20260421T060753
CREATED:20251204T211553Z
LAST-MODIFIED:20260421T034721Z
UID:9231-1685404800-1685491199@www.tbkf.de
SUMMARY:Pfingstferien NRW
DESCRIPTION:
URL:https://www.tbkf.de/termin/pfingstferien-nrw/
END:VEVENT
END:VCALENDAR