BEGIN:VCALENDAR
VERSION:2.0
PRODID:-//Technisches Berufskolleg Fäberstraße - ECPv6.15.13//NONSGML v1.0//EN
CALSCALE:GREGORIAN
METHOD:PUBLISH
X-ORIGINAL-URL:https://www.tbkf.de
X-WR-CALDESC:Veranstaltungen für Technisches Berufskolleg Fäberstraße
REFRESH-INTERVAL;VALUE=DURATION:PT1H
X-Robots-Tag:noindex
X-PUBLISHED-TTL:PT1H
BEGIN:VTIMEZONE
TZID:Europe/Berlin
BEGIN:DAYLIGHT
TZOFFSETFROM:+0100
TZOFFSETTO:+0200
TZNAME:CEST
DTSTART:20220327T010000
END:DAYLIGHT
BEGIN:STANDARD
TZOFFSETFROM:+0200
TZOFFSETTO:+0100
TZNAME:CET
DTSTART:20221030T010000
END:STANDARD
BEGIN:DAYLIGHT
TZOFFSETFROM:+0100
TZOFFSETTO:+0200
TZNAME:CEST
DTSTART:20230326T010000
END:DAYLIGHT
BEGIN:STANDARD
TZOFFSETFROM:+0200
TZOFFSETTO:+0100
TZNAME:CET
DTSTART:20231029T010000
END:STANDARD
BEGIN:DAYLIGHT
TZOFFSETFROM:+0100
TZOFFSETTO:+0200
TZNAME:CEST
DTSTART:20240331T010000
END:DAYLIGHT
BEGIN:STANDARD
TZOFFSETFROM:+0200
TZOFFSETTO:+0100
TZNAME:CET
DTSTART:20241027T010000
END:STANDARD
END:VTIMEZONE
BEGIN:VEVENT
DTSTART;TZID=Europe/Berlin:20230605T100000
DTEND;TZID=Europe/Berlin:20230605T130000
DTSTAMP:20260421T061055
CREATED:20251204T211607Z
LAST-MODIFIED:20260421T034725Z
UID:9375-1685959200-1685970000@www.tbkf.de
SUMMARY:IF Abschlussfeier
DESCRIPTION:
URL:https://www.tbkf.de/termin/if-abschlussfeier/
END:VEVENT
BEGIN:VEVENT
DTSTART;TZID=Europe/Berlin:20230606T100000
DTEND;TZID=Europe/Berlin:20230606T130000
DTSTAMP:20260421T061055
CREATED:20251204T211552Z
LAST-MODIFIED:20260421T034720Z
UID:9220-1686045600-1686056400@www.tbkf.de
SUMMARY:BF Abschlussfeier
DESCRIPTION:
URL:https://www.tbkf.de/termin/bf-abschlussfeier-2/
END:VEVENT
BEGIN:VEVENT
DTSTART;VALUE=DATE:20230608
DTEND;VALUE=DATE:20230609
DTSTAMP:20260421T061055
CREATED:20251204T211605Z
LAST-MODIFIED:20260421T034723Z
UID:9350-1686182400-1686268799@www.tbkf.de
SUMMARY:Fronleichnam (Feiertag)
DESCRIPTION:
URL:https://www.tbkf.de/termin/fronleichnam-feiertag/
END:VEVENT
BEGIN:VEVENT
DTSTART;VALUE=DATE:20230609
DTEND;VALUE=DATE:20230610
DTSTAMP:20260421T061055
CREATED:20251204T211553Z
LAST-MODIFIED:20260421T034720Z
UID:9228-1686268800-1686355199@www.tbkf.de
SUMMARY:Beweglicher Ferientag
DESCRIPTION:
URL:https://www.tbkf.de/termin/beweglicher-ferientag-3/
END:VEVENT
BEGIN:VEVENT
DTSTART;TZID=Europe/Berlin:20230616T130000
DTEND;TZID=Europe/Berlin:20230616T150000
DTSTAMP:20260421T061055
CREATED:20251204T211611Z
LAST-MODIFIED:20260421T034726Z
UID:9412-1686920400-1686927600@www.tbkf.de
SUMMARY:Abschlussfeier SQ
DESCRIPTION:
URL:https://www.tbkf.de/termin/abschlussfeier-sq/
END:VEVENT
BEGIN:VEVENT
DTSTART;TZID=Europe/Berlin:20230616T170000
DTEND;TZID=Europe/Berlin:20230616T200000
DTSTAMP:20260421T061055
CREATED:20251204T211607Z
LAST-MODIFIED:20260421T034724Z
UID:9368-1686934800-1686945600@www.tbkf.de
SUMMARY:FS Abschlussfeier
DESCRIPTION:
URL:https://www.tbkf.de/termin/fs-abschlussfeier-2/
LOCATION:Aula
END:VEVENT
BEGIN:VEVENT
DTSTART;TZID=Europe/Berlin:20230620T170000
DTEND;TZID=Europe/Berlin:20230620T201000
DTSTAMP:20260421T061055
CREATED:20251204T211610Z
LAST-MODIFIED:20260421T034726Z
UID:9406-1687280400-1687291800@www.tbkf.de
SUMMARY:FS Zeugnisausgabe Abendform
DESCRIPTION:
URL:https://www.tbkf.de/termin/fs-zeugnisausgabe-abendform/
END:VEVENT
BEGIN:VEVENT
DTSTART;TZID=Europe/Berlin:20230621T140000
DTEND;TZID=Europe/Berlin:20230621T150000
DTSTAMP:20260421T061055
CREATED:20251204T211600Z
LAST-MODIFIED:20260421T034722Z
UID:9304-1687356000-1687359600@www.tbkf.de
SUMMARY:FS Zeugnisausgabe Tagesform
DESCRIPTION:
URL:https://www.tbkf.de/termin/fs-zeugnisausgabe-tagesform-2/
END:VEVENT
BEGIN:VEVENT
DTSTART;VALUE=DATE:20230622
DTEND;VALUE=DATE:20230805
DTSTAMP:20260421T061055
CREATED:20251204T211604Z
LAST-MODIFIED:20260421T034723Z
UID:9345-1687392000-1691193599@www.tbkf.de
SUMMARY:Sommerferien NRW
DESCRIPTION:
URL:https://www.tbkf.de/termin/sommerferien-nrw/
END:VEVENT
END:VCALENDAR