BEGIN:VCALENDAR
VERSION:2.0
PRODID:-//Technisches Berufskolleg Fäberstraße - ECPv6.15.13//NONSGML v1.0//EN
CALSCALE:GREGORIAN
METHOD:PUBLISH
X-ORIGINAL-URL:https://www.tbkf.de
X-WR-CALDESC:Veranstaltungen für Technisches Berufskolleg Fäberstraße
REFRESH-INTERVAL;VALUE=DURATION:PT1H
X-Robots-Tag:noindex
X-PUBLISHED-TTL:PT1H
BEGIN:VTIMEZONE
TZID:Europe/Berlin
BEGIN:DAYLIGHT
TZOFFSETFROM:+0100
TZOFFSETTO:+0200
TZNAME:CEST
DTSTART:20230326T010000
END:DAYLIGHT
BEGIN:STANDARD
TZOFFSETFROM:+0200
TZOFFSETTO:+0100
TZNAME:CET
DTSTART:20231029T010000
END:STANDARD
BEGIN:DAYLIGHT
TZOFFSETFROM:+0100
TZOFFSETTO:+0200
TZNAME:CEST
DTSTART:20240331T010000
END:DAYLIGHT
BEGIN:STANDARD
TZOFFSETFROM:+0200
TZOFFSETTO:+0100
TZNAME:CET
DTSTART:20241027T010000
END:STANDARD
BEGIN:DAYLIGHT
TZOFFSETFROM:+0100
TZOFFSETTO:+0200
TZNAME:CEST
DTSTART:20250330T010000
END:DAYLIGHT
BEGIN:STANDARD
TZOFFSETFROM:+0200
TZOFFSETTO:+0100
TZNAME:CET
DTSTART:20251026T010000
END:STANDARD
END:VTIMEZONE
BEGIN:VEVENT
DTSTART;VALUE=DATE:20240209
DTEND;VALUE=DATE:20240210
DTSTAMP:20260420T151305
CREATED:20251204T211553Z
LAST-MODIFIED:20260420T124742Z
UID:9226-1707436800-1707523199@www.tbkf.de
SUMMARY:Brückentag
DESCRIPTION:
URL:https://www.tbkf.de/termin/brueckentag/
END:VEVENT
BEGIN:VEVENT
DTSTART;VALUE=DATE:20240212
DTEND;VALUE=DATE:20240213
DTSTAMP:20260420T151305
CREATED:20251204T211602Z
LAST-MODIFIED:20260420T124744Z
UID:9327-1707696000-1707782399@www.tbkf.de
SUMMARY:Rosenmontag
DESCRIPTION:
URL:https://www.tbkf.de/termin/rosenmontag-4/
END:VEVENT
BEGIN:VEVENT
DTSTART;VALUE=DATE:20240213
DTEND;VALUE=DATE:20240214
DTSTAMP:20260420T151305
CREATED:20251204T211551Z
LAST-MODIFIED:20260420T124742Z
UID:9210-1707782400-1707868799@www.tbkf.de
SUMMARY:Pädagogischer Tag
DESCRIPTION:
URL:https://www.tbkf.de/termin/paedagogischer-tag/
END:VEVENT
BEGIN:VEVENT
DTSTART;TZID=Europe/Berlin:20240215T190000
DTEND;TZID=Europe/Berlin:20240215T210000
DTSTAMP:20260420T151305
CREATED:20251204T211608Z
LAST-MODIFIED:20260420T124747Z
UID:9380-1708023600-1708030800@www.tbkf.de
SUMMARY:Schulkonferenz
DESCRIPTION:
URL:https://www.tbkf.de/termin/schulkonferenz-7/
END:VEVENT
END:VCALENDAR