BEGIN:VCALENDAR
VERSION:2.0
PRODID:-//Technisches Berufskolleg Fäberstraße - ECPv6.15.13//NONSGML v1.0//EN
CALSCALE:GREGORIAN
METHOD:PUBLISH
X-WR-CALNAME:Technisches Berufskolleg Fäberstraße
X-ORIGINAL-URL:https://www.tbkf.de
X-WR-CALDESC:Veranstaltungen für Technisches Berufskolleg Fäberstraße
REFRESH-INTERVAL;VALUE=DURATION:PT1H
X-Robots-Tag:noindex
X-PUBLISHED-TTL:PT1H
BEGIN:VTIMEZONE
TZID:Europe/Berlin
BEGIN:DAYLIGHT
TZOFFSETFROM:+0100
TZOFFSETTO:+0200
TZNAME:CEST
DTSTART:20230326T010000
END:DAYLIGHT
BEGIN:STANDARD
TZOFFSETFROM:+0200
TZOFFSETTO:+0100
TZNAME:CET
DTSTART:20231029T010000
END:STANDARD
BEGIN:DAYLIGHT
TZOFFSETFROM:+0100
TZOFFSETTO:+0200
TZNAME:CEST
DTSTART:20240331T010000
END:DAYLIGHT
BEGIN:STANDARD
TZOFFSETFROM:+0200
TZOFFSETTO:+0100
TZNAME:CET
DTSTART:20241027T010000
END:STANDARD
BEGIN:DAYLIGHT
TZOFFSETFROM:+0100
TZOFFSETTO:+0200
TZNAME:CEST
DTSTART:20250330T010000
END:DAYLIGHT
BEGIN:STANDARD
TZOFFSETFROM:+0200
TZOFFSETTO:+0100
TZNAME:CET
DTSTART:20251026T010000
END:STANDARD
END:VTIMEZONE
BEGIN:VEVENT
DTSTART;VALUE=DATE:20240501
DTEND;VALUE=DATE:20240502
DTSTAMP:20260420T103249
CREATED:20251204T211557Z
LAST-MODIFIED:20260420T081716Z
UID:9280-1714521600-1714607999@www.tbkf.de
SUMMARY:Maifeiertag
DESCRIPTION:
URL:https://www.tbkf.de/termin/maifeiertag/
END:VEVENT
BEGIN:VEVENT
DTSTART;TZID=Europe/Berlin:20240506T074500
DTEND;TZID=Europe/Berlin:20240507T133000
DTSTAMP:20260420T103249
CREATED:20251204T211559Z
LAST-MODIFIED:20260420T081716Z
UID:9295-1714981500-1715088600@www.tbkf.de
SUMMARY:Europatage am FJBK
DESCRIPTION:
URL:https://www.tbkf.de/termin/europatage-am-fjbk/
END:VEVENT
BEGIN:VEVENT
DTSTART;VALUE=DATE:20240509
DTEND;VALUE=DATE:20240510
DTSTAMP:20260420T103249
CREATED:20251204T211600Z
LAST-MODIFIED:20260420T081716Z
UID:9308-1715212800-1715299199@www.tbkf.de
SUMMARY:Christi Himmelfahrt
DESCRIPTION:
URL:https://www.tbkf.de/termin/christi-himmelfahrt-3/
END:VEVENT
BEGIN:VEVENT
DTSTART;VALUE=DATE:20240510
DTEND;VALUE=DATE:20240511
DTSTAMP:20260420T103249
CREATED:20251204T211606Z
LAST-MODIFIED:20260420T081718Z
UID:9359-1715299200-1715385599@www.tbkf.de
SUMMARY:Brückentag
DESCRIPTION:
URL:https://www.tbkf.de/termin/brueckentag-3/
END:VEVENT
BEGIN:VEVENT
DTSTART;VALUE=DATE:20240520
DTEND;VALUE=DATE:20240521
DTSTAMP:20260420T103249
CREATED:20251204T211601Z
LAST-MODIFIED:20260420T081717Z
UID:9323-1716163200-1716249599@www.tbkf.de
SUMMARY:Pfingstmontag
DESCRIPTION:
URL:https://www.tbkf.de/termin/pfingstmontag-4/
END:VEVENT
BEGIN:VEVENT
DTSTART;VALUE=DATE:20240521
DTEND;VALUE=DATE:20240522
DTSTAMP:20260420T103249
CREATED:20251204T211606Z
LAST-MODIFIED:20260420T081718Z
UID:9366-1716249600-1716335999@www.tbkf.de
SUMMARY:Pfingstferien
DESCRIPTION:
URL:https://www.tbkf.de/termin/pfingstferien-2/
END:VEVENT
BEGIN:VEVENT
DTSTART;TZID=Europe/Berlin:20240528T150000
DTEND;TZID=Europe/Berlin:20240528T160000
DTSTAMP:20260420T103249
CREATED:20251204T211558Z
LAST-MODIFIED:20260420T081716Z
UID:9290-1716908400-1716912000@www.tbkf.de
SUMMARY:Zeugniskonferenz Mme
DESCRIPTION:
URL:https://www.tbkf.de/termin/zeugniskonferenz-mme/
LOCATION:R2.02
END:VEVENT
BEGIN:VEVENT
DTSTART;VALUE=DATE:20240530
DTEND;VALUE=DATE:20240531
DTSTAMP:20260420T103249
CREATED:20251204T211553Z
LAST-MODIFIED:20260420T081715Z
UID:9233-1717027200-1717113599@www.tbkf.de
SUMMARY:Fronleichnam
DESCRIPTION:
URL:https://www.tbkf.de/termin/fronleichnam-4/
END:VEVENT
BEGIN:VEVENT
DTSTART;VALUE=DATE:20240531
DTEND;VALUE=DATE:20240601
DTSTAMP:20260420T103249
CREATED:20251204T211554Z
LAST-MODIFIED:20260420T081715Z
UID:9237-1717113600-1717199999@www.tbkf.de
SUMMARY:Brückentag
DESCRIPTION:
URL:https://www.tbkf.de/termin/brueckentag-2/
END:VEVENT
END:VCALENDAR