BEGIN:VCALENDAR
VERSION:2.0
PRODID:-//Technisches Berufskolleg Fäberstraße - ECPv6.15.13//NONSGML v1.0//EN
CALSCALE:GREGORIAN
METHOD:PUBLISH
X-WR-CALNAME:Technisches Berufskolleg Fäberstraße
X-ORIGINAL-URL:https://www.tbkf.de
X-WR-CALDESC:Veranstaltungen für Technisches Berufskolleg Fäberstraße
REFRESH-INTERVAL;VALUE=DURATION:PT1H
X-Robots-Tag:noindex
X-PUBLISHED-TTL:PT1H
BEGIN:VTIMEZONE
TZID:Europe/Berlin
BEGIN:DAYLIGHT
TZOFFSETFROM:+0100
TZOFFSETTO:+0200
TZNAME:CEST
DTSTART:20230326T010000
END:DAYLIGHT
BEGIN:STANDARD
TZOFFSETFROM:+0200
TZOFFSETTO:+0100
TZNAME:CET
DTSTART:20231029T010000
END:STANDARD
BEGIN:DAYLIGHT
TZOFFSETFROM:+0100
TZOFFSETTO:+0200
TZNAME:CEST
DTSTART:20240331T010000
END:DAYLIGHT
BEGIN:STANDARD
TZOFFSETFROM:+0200
TZOFFSETTO:+0100
TZNAME:CET
DTSTART:20241027T010000
END:STANDARD
BEGIN:DAYLIGHT
TZOFFSETFROM:+0100
TZOFFSETTO:+0200
TZNAME:CEST
DTSTART:20250330T010000
END:DAYLIGHT
BEGIN:STANDARD
TZOFFSETFROM:+0200
TZOFFSETTO:+0100
TZNAME:CET
DTSTART:20251026T010000
END:STANDARD
END:VTIMEZONE
BEGIN:VEVENT
DTSTART;VALUE=DATE:20240708
DTEND;VALUE=DATE:20240821
DTSTAMP:20260420T052023
CREATED:20251204T211552Z
LAST-MODIFIED:20260420T031716Z
UID:9224-1720396800-1724198399@www.tbkf.de
SUMMARY:Sommerferien
DESCRIPTION:
URL:https://www.tbkf.de/termin/sommerferien-3/
END:VEVENT
BEGIN:VEVENT
DTSTART;TZID=Europe/Berlin:20240816T080000
DTEND;TZID=Europe/Berlin:20240816T110000
DTSTAMP:20260420T052023
CREATED:20251204T211609Z
LAST-MODIFIED:20260420T031721Z
UID:9394-1723795200-1723806000@www.tbkf.de
SUMMARY:Schriftliche Nachprüfungen
DESCRIPTION:
URL:https://www.tbkf.de/termin/schriftliche-nachpruefungen-5/
END:VEVENT
BEGIN:VEVENT
DTSTART;VALUE=DATE:20240820
DTEND;VALUE=DATE:20240821
DTSTAMP:20260420T052023
CREATED:20251204T211554Z
LAST-MODIFIED:20260420T031717Z
UID:9244-1724112000-1724198399@www.tbkf.de
SUMMARY:Mündliche Nachprüfungen
DESCRIPTION:
URL:https://www.tbkf.de/termin/muendliche-nachpruefungen-2/
END:VEVENT
BEGIN:VEVENT
DTSTART;VALUE=DATE:20240821
DTEND;VALUE=DATE:20240822
DTSTAMP:20260420T052023
CREATED:20251204T211600Z
LAST-MODIFIED:20260420T031718Z
UID:9306-1724198400-1724284799@www.tbkf.de
SUMMARY:Schulbeginn/Einschulungen nach Plan
DESCRIPTION:https://www.tbkf.de/einschulungstermine-2024-25-fuer-die-berufsschule-vollzeitklassen-und-fachschule-fuer-technik/
URL:https://www.tbkf.de/termin/schulbeginn-einschulungen-nach-plan/
END:VEVENT
BEGIN:VEVENT
DTSTART;TZID=Europe/Berlin:20240822T083000
DTEND;TZID=Europe/Berlin:20240822T093000
DTSTAMP:20260420T052023
CREATED:20251204T211610Z
LAST-MODIFIED:20260420T031721Z
UID:9404-1724315400-1724319000@www.tbkf.de
SUMMARY:Einschulung Internationale Förderkkasse
DESCRIPTION:
URL:https://www.tbkf.de/termin/einschulung-internationale-foerderkkasse/
LOCATION:Düsseldorf\, Färberstr. 34\, 40223 Düsseldorf
END:VEVENT
BEGIN:VEVENT
DTSTART;TZID=Europe/Berlin:20240822T093000
DTEND;TZID=Europe/Berlin:20240822T103000
DTSTAMP:20260420T052023
CREATED:20251204T211602Z
LAST-MODIFIED:20260420T031718Z
UID:9328-1724319000-1724322600@www.tbkf.de
SUMMARY:Einschulung BQV
DESCRIPTION:
URL:https://www.tbkf.de/termin/einschulung-bqv/
LOCATION:Redinghovenstraße 20\, 40229 Düsseldorf
END:VEVENT
END:VCALENDAR