BEGIN:VCALENDAR
VERSION:2.0
PRODID:-//Technisches Berufskolleg Fäberstraße - ECPv6.15.13//NONSGML v1.0//EN
CALSCALE:GREGORIAN
METHOD:PUBLISH
X-WR-CALNAME:Technisches Berufskolleg Fäberstraße
X-ORIGINAL-URL:https://www.tbkf.de
X-WR-CALDESC:Veranstaltungen für Technisches Berufskolleg Fäberstraße
REFRESH-INTERVAL;VALUE=DURATION:PT1H
X-Robots-Tag:noindex
X-PUBLISHED-TTL:PT1H
BEGIN:VTIMEZONE
TZID:Europe/Berlin
BEGIN:DAYLIGHT
TZOFFSETFROM:+0100
TZOFFSETTO:+0200
TZNAME:CEST
DTSTART:20240331T010000
END:DAYLIGHT
BEGIN:STANDARD
TZOFFSETFROM:+0200
TZOFFSETTO:+0100
TZNAME:CET
DTSTART:20241027T010000
END:STANDARD
BEGIN:DAYLIGHT
TZOFFSETFROM:+0100
TZOFFSETTO:+0200
TZNAME:CEST
DTSTART:20250330T010000
END:DAYLIGHT
BEGIN:STANDARD
TZOFFSETFROM:+0200
TZOFFSETTO:+0100
TZNAME:CET
DTSTART:20251026T010000
END:STANDARD
BEGIN:DAYLIGHT
TZOFFSETFROM:+0100
TZOFFSETTO:+0200
TZNAME:CEST
DTSTART:20260329T010000
END:DAYLIGHT
BEGIN:STANDARD
TZOFFSETFROM:+0200
TZOFFSETTO:+0100
TZNAME:CET
DTSTART:20261025T010000
END:STANDARD
END:VTIMEZONE
BEGIN:VEVENT
DTSTART;TZID=Europe/Berlin:20250207T120000
DTEND;TZID=Europe/Berlin:20250207T150000
DTSTAMP:20260419T201701
CREATED:20251204T211610Z
LAST-MODIFIED:20260419T174750Z
UID:9408-1738929600-1738940400@www.tbkf.de
SUMMARY:Anmeldezeitraum am TBKF
DESCRIPTION:
URL:https://www.tbkf.de/termin/anmeldezeitraum-am-tbkf-2/
END:VEVENT
BEGIN:VEVENT
DTSTART;VALUE=DATE:20250210
DTEND;VALUE=DATE:20250215
DTSTAMP:20260419T201701
CREATED:20251204T211553Z
LAST-MODIFIED:20260419T174745Z
UID:9235-1739145600-1739577599@www.tbkf.de
SUMMARY:Anmeldezeitraum am TBKF
DESCRIPTION:
URL:https://www.tbkf.de/termin/anmeldezeitraum-am-tbkf/
END:VEVENT
BEGIN:VEVENT
DTSTART;VALUE=DATE:20250228
DTEND;VALUE=DATE:20250301
DTSTAMP:20260419T201701
CREATED:20251204T211556Z
LAST-MODIFIED:20260419T174745Z
UID:9268-1740700800-1740787199@www.tbkf.de
SUMMARY:Beweglicher Ferientag
DESCRIPTION:
URL:https://www.tbkf.de/termin/beweglicher-ferientag-4/
END:VEVENT
END:VCALENDAR