BEGIN:VCALENDAR
VERSION:2.0
PRODID:-//Technisches Berufskolleg Fäberstraße - ECPv6.15.13//NONSGML v1.0//EN
CALSCALE:GREGORIAN
METHOD:PUBLISH
X-WR-CALNAME:Technisches Berufskolleg Fäberstraße
X-ORIGINAL-URL:https://www.tbkf.de
X-WR-CALDESC:Veranstaltungen für Technisches Berufskolleg Fäberstraße
REFRESH-INTERVAL;VALUE=DURATION:PT1H
X-Robots-Tag:noindex
X-PUBLISHED-TTL:PT1H
BEGIN:VTIMEZONE
TZID:Europe/Berlin
BEGIN:DAYLIGHT
TZOFFSETFROM:+0100
TZOFFSETTO:+0200
TZNAME:CEST
DTSTART:20240331T010000
END:DAYLIGHT
BEGIN:STANDARD
TZOFFSETFROM:+0200
TZOFFSETTO:+0100
TZNAME:CET
DTSTART:20241027T010000
END:STANDARD
BEGIN:DAYLIGHT
TZOFFSETFROM:+0100
TZOFFSETTO:+0200
TZNAME:CEST
DTSTART:20250330T010000
END:DAYLIGHT
BEGIN:STANDARD
TZOFFSETFROM:+0200
TZOFFSETTO:+0100
TZNAME:CET
DTSTART:20251026T010000
END:STANDARD
BEGIN:DAYLIGHT
TZOFFSETFROM:+0100
TZOFFSETTO:+0200
TZNAME:CEST
DTSTART:20260329T010000
END:DAYLIGHT
BEGIN:STANDARD
TZOFFSETFROM:+0200
TZOFFSETTO:+0100
TZNAME:CET
DTSTART:20261025T010000
END:STANDARD
END:VTIMEZONE
BEGIN:VEVENT
DTSTART;VALUE=DATE:20250401
DTEND;VALUE=DATE:20250402
DTSTAMP:20260419T152607
CREATED:20251204T211600Z
LAST-MODIFIED:20260419T131718Z
UID:9309-1743465600-1743551999@www.tbkf.de
SUMMARY:KMK-Prüfung Französisch (schriftlich)
DESCRIPTION:
URL:https://www.tbkf.de/termin/kmk-pruefung-franzoesisch-schriftlich/
END:VEVENT
BEGIN:VEVENT
DTSTART;VALUE=DATE:20250401
DTEND;VALUE=DATE:20250402
DTSTAMP:20260419T152607
CREATED:20251204T211606Z
LAST-MODIFIED:20260419T131720Z
UID:9367-1743465600-1743551999@www.tbkf.de
SUMMARY:Fit-for-Future-Tag
DESCRIPTION:AQ: B21\, B23\, B24 \nBerufsschule: MA21\, ME32\, MIB31\, MIB32\, TMV11\, VB21\, VB22\, VS11\, VS21\, VS22
URL:https://www.tbkf.de/termin/fit-for-future-tag/
END:VEVENT
BEGIN:VEVENT
DTSTART;VALUE=DATE:20250403
DTEND;VALUE=DATE:20250404
DTSTAMP:20260419T152607
CREATED:20251204T211559Z
LAST-MODIFIED:20260419T131718Z
UID:9293-1743638400-1743724799@www.tbkf.de
SUMMARY:KMK-Prüfung Französisch (mündlich)
DESCRIPTION:
URL:https://www.tbkf.de/termin/kmk-pruefung-franzoesisch-muendlich/
END:VEVENT
BEGIN:VEVENT
DTSTART;VALUE=DATE:20250404
DTEND;VALUE=DATE:20250405
DTSTAMP:20260419T152607
CREATED:20251204T211611Z
LAST-MODIFIED:20260419T131722Z
UID:9410-1743724800-1743811199@www.tbkf.de
SUMMARY:Lust auf Handwerk
DESCRIPTION:
URL:https://www.tbkf.de/termin/lust-auf-handwerk-2/
LOCATION:Campus Färberstraße
END:VEVENT
BEGIN:VEVENT
DTSTART;VALUE=DATE:20250408
DTEND;VALUE=DATE:20250409
DTSTAMP:20260419T152607
CREATED:20251204T211608Z
LAST-MODIFIED:20260419T131721Z
UID:9387-1744070400-1744156799@www.tbkf.de
SUMMARY:KMK-Prüfung Englisch (mündlich)
DESCRIPTION:
URL:https://www.tbkf.de/termin/kmk-pruefung-englisch-muendlich-2/
LOCATION:Aula
END:VEVENT
BEGIN:VEVENT
DTSTART;VALUE=DATE:20250409
DTEND;VALUE=DATE:20250410
DTSTAMP:20260419T152607
CREATED:20251204T211600Z
LAST-MODIFIED:20260419T131718Z
UID:9314-1744156800-1744243199@www.tbkf.de
SUMMARY:KMK-Prüfung Englisch (mündlich)
DESCRIPTION:
URL:https://www.tbkf.de/termin/kmk-pruefung-englisch-muendlich/
END:VEVENT
BEGIN:VEVENT
DTSTART;VALUE=DATE:20250410
DTEND;VALUE=DATE:20250411
DTSTAMP:20260419T152607
CREATED:20251204T211559Z
LAST-MODIFIED:20260419T131718Z
UID:9299-1744243200-1744329599@www.tbkf.de
SUMMARY:Pädagogischer Tag (kein Unterricht)
DESCRIPTION:
URL:https://www.tbkf.de/termin/paedagogischer-tag-kein-unterricht/
END:VEVENT
BEGIN:VEVENT
DTSTART;VALUE=DATE:20250414
DTEND;VALUE=DATE:20250427
DTSTAMP:20260419T152607
CREATED:20251204T211555Z
LAST-MODIFIED:20260419T131717Z
UID:9257-1744588800-1745711999@www.tbkf.de
SUMMARY:Osterferien
DESCRIPTION:
URL:https://www.tbkf.de/termin/osterferien-2/
END:VEVENT
END:VCALENDAR